BEGIN:VCALENDAR
VERSION:2.0
PRODID:-//4SKANSW Inc - ECPv5.3.2//NONSGML v1.0//EN
CALSCALE:GREGORIAN
METHOD:PUBLISH
X-WR-CALNAME:4SKANSW Inc
X-ORIGINAL-URL:http://4skansw.com.au
X-WR-CALDESC:Events for 4SKANSW Inc
BEGIN:VTIMEZONE
TZID:Australia/Sydney
BEGIN:STANDARD
TZOFFSETFROM:+1100
TZOFFSETTO:+1000
TZNAME:AEST
DTSTART:20210403T160000
END:STANDARD
BEGIN:DAYLIGHT
TZOFFSETFROM:+1000
TZOFFSETTO:+1100
TZNAME:AEDT
DTSTART:20211002T160000
END:DAYLIGHT
END:VTIMEZONE
BEGIN:VEVENT
DTSTART;TZID=Australia/Sydney:20210221T110000
DTEND;TZID=Australia/Sydney:20210221T170000
DTSTAMP:20210223T112147
CREATED:20210121T092927Z
LAST-MODIFIED:20210131T090616Z
UID:15819-1613905200-1613926800@4skansw.com.au
SUMMARY:RND 1 - PRO AXLE CUP CANBERRA 6 HOUR
DESCRIPTION:RACE ENTRY\nSUPP REGS\nSCRUTINEERING FORM
URL:http://4skansw.com.au/event/rnd-1-pro-axle-cup-canberra-6-hour/
LOCATION:Circuit Mark Webber (Canberra Kart Track)\, 705 Pialligo Ave\, Pialligo\, ACT\, 2609\, Australia
CATEGORIES:Endurance Race
ATTACH;FMTTYPE=image/jpeg:http://4skansw.com.au/wp-content/uploads/2021-R1-FacebookBanner.jpg
END:VEVENT
END:VCALENDAR